BEGIN:VCALENDAR
VERSION:2.0
PRODID:-// - ECPv6.15.16.1//NONSGML v1.0//EN
CALSCALE:GREGORIAN
METHOD:PUBLISH
X-ORIGINAL-URL:https://www.atexasguide.com
X-WR-CALDESC:Events for 
REFRESH-INTERVAL;VALUE=DURATION:PT1H
X-Robots-Tag:noindex
X-PUBLISHED-TTL:PT1H
BEGIN:VTIMEZONE
TZID:America/New_York
BEGIN:DAYLIGHT
TZOFFSETFROM:-0500
TZOFFSETTO:-0400
TZNAME:EDT
DTSTART:20230312T070000
END:DAYLIGHT
BEGIN:STANDARD
TZOFFSETFROM:-0400
TZOFFSETTO:-0500
TZNAME:EST
DTSTART:20231105T060000
END:STANDARD
BEGIN:DAYLIGHT
TZOFFSETFROM:-0500
TZOFFSETTO:-0400
TZNAME:EDT
DTSTART:20240310T070000
END:DAYLIGHT
BEGIN:STANDARD
TZOFFSETFROM:-0400
TZOFFSETTO:-0500
TZNAME:EST
DTSTART:20241103T060000
END:STANDARD
BEGIN:DAYLIGHT
TZOFFSETFROM:-0500
TZOFFSETTO:-0400
TZNAME:EDT
DTSTART:20250309T070000
END:DAYLIGHT
BEGIN:STANDARD
TZOFFSETFROM:-0400
TZOFFSETTO:-0500
TZNAME:EST
DTSTART:20251102T060000
END:STANDARD
END:VTIMEZONE
BEGIN:VEVENT
DTSTART;TZID=America/New_York:20240704T203000
DTEND;TZID=America/New_York:20240704T220000
DTSTAMP:20260423T210246
CREATED:20240624T164350Z
LAST-MODIFIED:20240624T164350Z
UID:19648-1720125000-1720130400@www.atexasguide.com
SUMMARY:Star Spangled Salute Presented by ExxonMobil Produced by Houston Symphony
DESCRIPTION:The biggest performance of the year is set to celebrate Independence Day at 8:30 pm with an in-person audience only\, as this event will not be livestreamed. \nAttendees can enjoy a captivating performance of patriotic favorites\, culminating in a spectacular fireworks display at 10:00 PM. The conductor for this extraordinary show is Jason Seber\, who is known for his dedication to making symphony orchestras accessible and meaningful to diverse audiences. \nThe Houston Symphony is renowned for its exceptional artistry\, diverse programming\, and commitment to education and community engagement. The symphony aims to be America’s most relevant and accessible top-ten orchestra\, emphasizing inclusivity to serve Houston\, the most diverse city in the nation. \nThe fireworks are courtesy of the Miller Theatre Advisory Board. All performances at Miller Outdoor Theatre are FREE. \nPhotos will be taken at this event and may appear in Miller Outdoor Theatre’s print or digital communications or marketing materials. By attending\, participants authorize MTAB to use their photographs for educational purposes without compensation. \nMiller tickets are now available online and on smartphones\, with a limit of 4 per person. No tickets are necessary for seating on the Hill. \nThe show goes on rain or shine. For more information on tickets and seating\, click here. \nAll performances at Miller Outdoor Theatre are partially funded by the City of Houston through the Houston Arts Alliance.
URL:https://www.atexasguide.com/event/star-spangled-salute-presented-by-exxonmobil-produced-by-houston-symphony-2/
CATEGORIES:Houston,Texas
ATTACH;FMTTYPE=image/jpeg:https://www.atexasguide.com/wp-content/uploads/2024/06/4th-of-july-event-in-houston-with-houston-symphony.jpg
END:VEVENT
END:VCALENDAR