BEGIN:VCALENDAR
VERSION:2.0
PRODID:-// - ECPv6.15.16.1//NONSGML v1.0//EN
CALSCALE:GREGORIAN
METHOD:PUBLISH
X-ORIGINAL-URL:https://www.atexasguide.com
X-WR-CALDESC:Events for 
REFRESH-INTERVAL;VALUE=DURATION:PT1H
X-Robots-Tag:noindex
X-PUBLISHED-TTL:PT1H
BEGIN:VTIMEZONE
TZID:America/New_York
BEGIN:DAYLIGHT
TZOFFSETFROM:-0500
TZOFFSETTO:-0400
TZNAME:EDT
DTSTART:20230312T070000
END:DAYLIGHT
BEGIN:STANDARD
TZOFFSETFROM:-0400
TZOFFSETTO:-0500
TZNAME:EST
DTSTART:20231105T060000
END:STANDARD
BEGIN:DAYLIGHT
TZOFFSETFROM:-0500
TZOFFSETTO:-0400
TZNAME:EDT
DTSTART:20240310T070000
END:DAYLIGHT
BEGIN:STANDARD
TZOFFSETFROM:-0400
TZOFFSETTO:-0500
TZNAME:EST
DTSTART:20241103T060000
END:STANDARD
BEGIN:DAYLIGHT
TZOFFSETFROM:-0500
TZOFFSETTO:-0400
TZNAME:EDT
DTSTART:20250309T070000
END:DAYLIGHT
BEGIN:STANDARD
TZOFFSETFROM:-0400
TZOFFSETTO:-0500
TZNAME:EST
DTSTART:20251102T060000
END:STANDARD
END:VTIMEZONE
BEGIN:VEVENT
DTSTART;VALUE=DATE:20241006
DTEND;VALUE=DATE:20241007
DTSTAMP:20260423T202017
CREATED:20240929T154454Z
LAST-MODIFIED:20240929T154454Z
UID:19927-1728172800-1728259199@www.atexasguide.com
SUMMARY:Royal Caribbean - Harmony of the Seas Cruise
DESCRIPTION:Royal Caribbean’s Harmony of the Seas®: A Family Adventure from Galveston\nSet sail on one of the world’s largest cruise ships and discover endless thrills for the whole family. Harmony of the Seas® redefines the family vacation with unforgettable experiences\, from the Ultimate Abyss℠\, the tallest slide at sea\, to breathtaking stunts at the AquaTheater. Sip on a drink mixed by robots at the Bionic Bar\, enjoy dazzling Broadway-style performances\, and savor global flavors from Asia to the Mediterranean. This is your chance to create amazing memories on a cruise that truly has it all. \nRead our:  Cruise from Galveston Story
URL:https://www.atexasguide.com/event/royal-caribbean-harmony-of-the-seas-cruise-galveston-itinerary/
CATEGORIES:Galveston,Galveston Cruises
ATTACH;FMTTYPE=image/jpeg:https://www.atexasguide.com/wp-content/uploads/2024/09/harmony-of-the-seas-royal-caribbean-scaled-1.jpg
END:VEVENT
BEGIN:VEVENT
DTSTART;VALUE=DATE:20241005
DTEND;VALUE=DATE:20241006
DTSTAMP:20260423T202017
CREATED:20240929T153217Z
LAST-MODIFIED:20240929T153217Z
UID:19925-1728086400-1728172799@www.atexasguide.com
SUMMARY:Carnival Cruise Line - Dream Cruise Ship
DESCRIPTION:Carnival Dream Cruise: A Classic Cruise Adventure from Galveston\nCarnival Dream set the stage for an unforgettable cruise experience with its blend of fun\, flavors\, and relaxation. Enjoy island vibes at the RedFrog Rum Bar® and BlueIguana Tequila Bar™\, or dive into delicious options at two dual-level dining rooms\, the Bonsai Sushi™ spot\, and Guy’s Pig & Anchor Smokehouse™ by Guy Fieri. You’ll find endless entertainment across the ship\, from live performances at Ocean Plaza to waterslide thrills at Carnival WaterWorks™. Relax at the Cloud 9 Spa™ or savor handcrafted cocktails at the Alchemy Bar®. Embark on your dream journey with Carnival Dream from Galveston!
URL:https://www.atexasguide.com/event/carnival-cruise-line-dream-cruise-ship-2/
CATEGORIES:Galveston,Galveston Cruises
ATTACH;FMTTYPE=image/png:https://www.atexasguide.com/wp-content/uploads/2023/03/carnival-cruise-leaving-galveston.png
END:VEVENT
BEGIN:VEVENT
DTSTART;VALUE=DATE:20241005
DTEND;VALUE=DATE:20241006
DTSTAMP:20260423T202017
CREATED:20240929T152938Z
LAST-MODIFIED:20240929T152938Z
UID:19923-1728086400-1728172799@www.atexasguide.com
SUMMARY:Carnival Cruise Line - Jubilee Cruise Ship
DESCRIPTION:Carnival Jubilee: Your Next-Level Cruise Adventure\, Texas Style\nWelcome aboard the Carnival Jubilee® – the latest ship bringing you unforgettable moments and plenty of fun from Galveston! Inspired by the legendary Mardi Gras® and Carnival Celebration®\, this ship takes your vacation to a whole new level with six exciting “zones” to explore. Each zone offers its own unique mix of experiences\, so you can craft your perfect getaway\, whether you’re craving non-stop thrills or relaxing vibes. \nTwo brand-new zones\, Currents™ and The Shores™\, bring an ocean-inspired twist to your adventure. Feast on flavors at Emeril’s Bistro 717™\, courtesy of Carnival’s Chief Culinary Officer\, Emeril Lagasse. Then\, dive into classic Carnival favorites like the BOLT® roller coaster\, RedFrog® Tiki Bar\, Family Feud™ Live\, and Seuss at Sea™. And don’t miss the fresh onboard surprises like The Golden Mermaid™ and Dr.Inks\, Ph.D.™ – spots that promise endless fun. Plus\, the Carnival Jubilee® is powered by clean-burning LNG fuel\, making it not just a fun choice but an eco-friendly one too! \nRead about our experience from a Carnival Cruise from Galveston.
URL:https://www.atexasguide.com/event/carnival-jubilee-cruise-ship-galveston-itinerary/
CATEGORIES:Galveston,Galveston Cruises
ATTACH;FMTTYPE=image/webp:https://www.atexasguide.com/wp-content/uploads/2024/09/jubillee-carnival-cruise-galveston.webp
END:VEVENT
BEGIN:VEVENT
DTSTART;VALUE=DATE:20241005
DTEND;VALUE=DATE:20241006
DTSTAMP:20260423T202017
CREATED:20240929T152412Z
LAST-MODIFIED:20240929T152412Z
UID:19921-1728086400-1728172799@www.atexasguide.com
SUMMARY:Royal Caribbean - Mariner of the Seas
DESCRIPTION:Royal Caribbean – Mariner of the Seas\nThis isn’t your typical weekend escape – it’s a bold adventure made for the whole family. Royal Caribbean’s Mariner of the Seas® brings an exciting mix of activities and fun for everyone. Catch a wave on the FlowRider® surf simulator\, or speed down The Perfect Storm℠ waterslides. Gather for a family meal at Jamie’s Italian by Jamie Oliver\, or start your evening with a drink at The Bamboo Room. It’s a getaway packed with non-stop fun\, perfect for your next unforgettable cruise from Texas.
URL:https://www.atexasguide.com/event/royal-caribbean-mariner-of-the-seas-cruise-ship-galveston-itinerary/
CATEGORIES:Galveston,Galveston Cruises
ATTACH;FMTTYPE=image/webp:https://www.atexasguide.com/wp-content/uploads/2024/09/mariner-of-the-seas-by-royal-caribbean-cruises-in-galveston-tx.webp
END:VEVENT
BEGIN:VEVENT
DTSTART;VALUE=DATE:20241003
DTEND;VALUE=DATE:20241004
DTSTAMP:20260423T202017
CREATED:20240929T151848Z
LAST-MODIFIED:20240929T151848Z
UID:19919-1727913600-1727999999@www.atexasguide.com
SUMMARY:Carnival Cruise Line - Breeze Cruise Ship
DESCRIPTION:Carnival Breeze®: Set Sail for Fun and Flavor from Galveston\nStep aboard the Carnival Breeze® and get ready for a cruise filled with endless fun and unforgettable flavors\, all with a laid-back Texas twist! From action-packed spots like SportSquare™ to dining experiences that will wow your taste buds\, this ship is ready to make your vacation one to remember. \nKick back at the tropical RedFrog Rum Bar® or spice things up with fresh tacos at BlueIguana Cantina™. Craving sushi? Bonsai Sushi™ serves up fresh catches in a serene atmosphere. And no trip on the Breeze is complete without a stop at Guy’s Burger Joint™\, where you’ll enjoy sizzling burgers crafted by celebrity chef Guy Fieri. \nFor steak lovers\, Fahrenheit 555 Steakhouse delivers premium cuts cooked just the way you like them\, paired with gourmet appetizers and fine wines. Feeling more casual? Grab a slice at Pizza Pirate\, a deli classic at Carnival Deli\, or dive into some smoky\, finger-licking BBQ at Guy’s Pig & Anchor Bar-B-Que Smokehouse™. \nFamilies will have a blast at Carnival WaterWorks™\, featuring the 320-foot Twister Waterslide™\, while kids can enjoy supervised fun at Camp Ocean®\, Circle ‘C’®\, and Club O2®. For adults looking to unwind\, there’s nothing like the Serenity Adults-Only Retreat™ and a little pampering at Cloud 9 Spa™. \nWhen the sun goes down\, the fun continues. Sing along with Playlist Productions™\, hit the dance floor at Liquid Nightclub™\, or grab a unique cocktail creation at Alchemy Bar®. And for a laugh\, head over to the Punchliner Comedy Club™. \nWhether you’re relaxing in the tropically-inspired staterooms or enjoying the island vibes throughout the ship\, Carnival Breeze® promises to transport you straight to Caribbean bliss – all starting from Galveston!
URL:https://www.atexasguide.com/event/carnival-breeze-cruise-ship-itinerary/
CATEGORIES:Galveston,Galveston Cruises
ATTACH;FMTTYPE=image/jpeg:https://www.atexasguide.com/wp-content/uploads/2024/09/carnival-breeze-cruise-ship-from-galveston.jpg
END:VEVENT
BEGIN:VEVENT
DTSTART;VALUE=DATE:20240930
DTEND;VALUE=DATE:20241001
DTSTAMP:20260423T202017
CREATED:20240926T233911Z
LAST-MODIFIED:20240926T233911Z
UID:19853-1727654400-1727740799@www.atexasguide.com
SUMMARY:Royal Caribbean - Mariner of the Seas
DESCRIPTION:Royal Caribbean – Mariner of the Seas\nThis isn’t your typical weekend escape – it’s a bold adventure made for the whole family. Royal Caribbean’s Mariner of the Seas® brings an exciting mix of activities and fun for everyone. Catch a wave on the FlowRider® surf simulator\, or speed down The Perfect Storm℠ waterslides. Gather for a family meal at Jamie’s Italian by Jamie Oliver\, or start your evening with a drink at The Bamboo Room. It’s a getaway packed with non-stop fun\, perfect for your next unforgettable cruise from Texas.
URL:https://www.atexasguide.com/event/royal-caribbean-mariner-of-the-seas-2/
CATEGORIES:Galveston,Galveston Cruises
ATTACH;FMTTYPE=image/webp:https://www.atexasguide.com/wp-content/uploads/2024/09/mariner-of-the-seas-by-royal-caribbean-cruises-in-galveston-tx.webp
END:VEVENT
BEGIN:VEVENT
DTSTART;VALUE=DATE:20240929
DTEND;VALUE=DATE:20240930
DTSTAMP:20260423T202017
CREATED:20240927T100237Z
LAST-MODIFIED:20240927T100237Z
UID:19855-1727568000-1727654399@www.atexasguide.com
SUMMARY:Carnival Cruise Line - Dream Cruise Ship
DESCRIPTION:Carnival Dream: A Classic Cruise Adventure from Galveston\nCarnival Dream set the stage for an unforgettable cruise experience with its blend of fun\, flavors\, and relaxation. Enjoy island vibes at the RedFrog Rum Bar® and BlueIguana Tequila Bar™\, or dive into delicious options at two dual-level dining rooms\, the Bonsai Sushi™ spot\, and Guy’s Pig & Anchor Smokehouse™ by Guy Fieri. You’ll find endless entertainment across the ship\, from live performances at Ocean Plaza to waterslide thrills at Carnival WaterWorks™. Relax at the Cloud 9 Spa™ or savor handcrafted cocktails at the Alchemy Bar®. Embark on your dream journey with Carnival Dream from Galveston! \nBook Your Next Cruise
URL:https://www.atexasguide.com/event/carnival-cruise-line-dream-cruise-ship/
CATEGORIES:Galveston,Galveston Cruises
ATTACH;FMTTYPE=image/png:https://www.atexasguide.com/wp-content/uploads/2023/03/carnival-cruise-leaving-galveston.png
END:VEVENT
BEGIN:VEVENT
DTSTART;VALUE=DATE:20240929
DTEND;VALUE=DATE:20240930
DTSTAMP:20260423T202017
CREATED:20240926T230927Z
LAST-MODIFIED:20240926T230927Z
UID:19847-1727568000-1727654399@www.atexasguide.com
SUMMARY:Royal Caribbean - Harmony of the Seas
DESCRIPTION:Royal Caribbean’s Harmony of the Seas®: A Family Adventure from Galveston\nSet sail on one of the world’s largest cruise ships and discover endless thrills for the whole family. Harmony of the Seas® redefines the family vacation with unforgettable experiences\, from the Ultimate Abyss℠\, the tallest slide at sea\, to breathtaking stunts at the AquaTheater. Sip on a drink mixed by robots at the Bionic Bar\, enjoy dazzling Broadway-style performances\, and savor global flavors from Asia to the Mediterranean. This is your chance to create amazing memories on a cruise that truly has it all.
URL:https://www.atexasguide.com/event/royal-caribbean-harmony-of-the-seas/
CATEGORIES:Galveston,Galveston Cruises
ATTACH;FMTTYPE=image/jpeg:https://www.atexasguide.com/wp-content/uploads/2024/09/harmony-of-the-seas-royal-caribbean-scaled-1.jpg
END:VEVENT
BEGIN:VEVENT
DTSTART;VALUE=DATE:20240928
DTEND;VALUE=DATE:20240929
DTSTAMP:20260423T202017
CREATED:20240926T131439Z
LAST-MODIFIED:20240926T131439Z
UID:19842-1727481600-1727567999@www.atexasguide.com
SUMMARY:Carnival Cruise Line - Breeze Cruise Ship
DESCRIPTION:Carnival Breeze®: Set Sail for Fun and Flavor from Galveston\nStep aboard the Carnival Breeze® and get ready for a cruise filled with endless fun and unforgettable flavors\, all with a laid-back Texas twist! From action-packed spots like SportSquare™ to dining experiences that will wow your taste buds\, this ship is ready to make your vacation one to remember. \nKick back at the tropical RedFrog Rum Bar® or spice things up with fresh tacos at BlueIguana Cantina™. Craving sushi? Bonsai Sushi™ serves up fresh catches in a serene atmosphere. And no trip on the Breeze is complete without a stop at Guy’s Burger Joint™\, where you’ll enjoy sizzling burgers crafted by celebrity chef Guy Fieri. \nFor steak lovers\, Fahrenheit 555 Steakhouse delivers premium cuts cooked just the way you like them\, paired with gourmet appetizers and fine wines. Feeling more casual? Grab a slice at Pizza Pirate\, a deli classic at Carnival Deli\, or dive into some smoky\, finger-licking BBQ at Guy’s Pig & Anchor Bar-B-Que Smokehouse™. \nFamilies will have a blast at Carnival WaterWorks™\, featuring the 320-foot Twister Waterslide™\, while kids can enjoy supervised fun at Camp Ocean®\, Circle ‘C’®\, and Club O2®. For adults looking to unwind\, there’s nothing like the Serenity Adults-Only Retreat™ and a little pampering at Cloud 9 Spa™. \nWhen the sun goes down\, the fun continues. Sing along with Playlist Productions™\, hit the dance floor at Liquid Nightclub™\, or grab a unique cocktail creation at Alchemy Bar®. And for a laugh\, head over to the Punchliner Comedy Club™. \nWhether you’re relaxing in the tropically-inspired staterooms or enjoying the island vibes throughout the ship\, Carnival Breeze® promises to transport you straight to Caribbean bliss – all starting from Galveston!
URL:https://www.atexasguide.com/event/carnival-cruise-line-breeze-cruise-ship/
CATEGORIES:Galveston,Galveston Cruises
ATTACH;FMTTYPE=image/jpeg:https://www.atexasguide.com/wp-content/uploads/2024/09/carnival-breeze-cruise-ship-from-galveston.jpg
END:VEVENT
BEGIN:VEVENT
DTSTART;VALUE=DATE:20240928
DTEND;VALUE=DATE:20240929
DTSTAMP:20260423T202017
CREATED:20240926T124236Z
LAST-MODIFIED:20240926T124236Z
UID:19838-1727481600-1727567999@www.atexasguide.com
SUMMARY:Carnival Cruise Line - Jubilee Cruise Ship
DESCRIPTION:Carnival Jubilee: Your Next-Level Cruise Adventure\, Texas Style\nWelcome aboard the Carnival Jubilee® – the latest ship bringing you unforgettable moments and plenty of fun from Galveston! Inspired by the legendary Mardi Gras® and Carnival Celebration®\, this ship takes your vacation to a whole new level with six exciting “zones” to explore. Each zone offers its own unique mix of experiences\, so you can craft your perfect getaway\, whether you’re craving non-stop thrills or relaxing vibes. \nTwo brand-new zones\, Currents™ and The Shores™\, bring an ocean-inspired twist to your adventure. Feast on flavors at Emeril’s Bistro 717™\, courtesy of Carnival’s Chief Culinary Officer\, Emeril Lagasse. Then\, dive into classic Carnival favorites like the BOLT® roller coaster\, RedFrog® Tiki Bar\, Family Feud™ Live\, and Seuss at Sea™. And don’t miss the fresh onboard surprises like The Golden Mermaid™ and Dr.Inks\, Ph.D.™ – spots that promise endless fun. Plus\, the Carnival Jubilee® is powered by clean-burning LNG fuel\, making it not just a fun choice but an eco-friendly one too!
URL:https://www.atexasguide.com/event/carnival-cruise-line-jubilee-cruise-ship/
CATEGORIES:Galveston,Galveston Cruises
ATTACH;FMTTYPE=image/webp:https://www.atexasguide.com/wp-content/uploads/2024/09/jubillee-carnival-cruise-galveston.webp
END:VEVENT
BEGIN:VEVENT
DTSTART;VALUE=DATE:20240926
DTEND;VALUE=DATE:20240927
DTSTAMP:20260423T202017
CREATED:20240926T120828Z
LAST-MODIFIED:20240926T120828Z
UID:19834-1727308800-1727395199@www.atexasguide.com
SUMMARY:Royal Caribbean - Mariner of the Seas
DESCRIPTION:This isn’t your typical weekend escape – it’s a bold adventure made for the whole family. Royal Caribbean’s Mariner of the Seas® brings an exciting mix of activities and fun for everyone. Catch a wave on the FlowRider® surf simulator\, or speed down The Perfect Storm℠ waterslides. Gather for a family meal at Jamie’s Italian by Jamie Oliver\, or start your evening with a drink at The Bamboo Room. It’s a getaway packed with non-stop fun\, perfect for your next unforgettable cruise from Texas.
URL:https://www.atexasguide.com/event/royal-caribbean-mariner-of-the-seas/
CATEGORIES:Galveston,Galveston Cruises
ATTACH;FMTTYPE=image/webp:https://www.atexasguide.com/wp-content/uploads/2024/09/mariner-of-the-seas-by-royal-caribbean-cruises-in-galveston-tx.webp
END:VEVENT
END:VCALENDAR